Workbook
Name Ax: Calcs!$B$26
Name Ay: Calcs!$C$26
Name Bx: Calcs!$B$27
Name By: Calcs!$C$27
Name Coll_raw: Main!$C$9
Name Cx: Calcs!$B$28
Name Cy: Calcs!$C$28
Name Dx: Calcs!$B$29
Name Dy: Calcs!$C$29
Name hide_jaw_labels: Settings!$A$14
Name lat_limit_max: Settings!$C$10
Name lat_limit_min: Settings!$B$10
Name lng_limit_max: Settings!$C$11
Name lng_limit_min: Settings!$B$11
Name mag: Calcs!$S$6
Name offset_dist: Calcs!$X$13
Name show_jaw_labels: Settings!$A$14
Name VRT: Main!$C$10
Name vrt_limit_max: Settings!$C$9
Name vrt_limit_min: Settings!$B$9
Name X1_raw: Main!$C$5
Name X2_raw: Main!$C$6
Name xmargin: Settings!$E$5
Name Y1_raw: Main!$C$7
Name Y2_raw: Main!$C$8
Name ymargin: Settings!$F$5

Sheet Main
A1: IMAGER POSITION CALCULATOR
B4: Setup Field Parameters
B5: X1 | C5: 5
B6: X2 | C6: 5
B7: Y1 | C7: 5
B8: Y2 | C8: 5
B9: Coll | C9: 0
B10: VRT | C10: 50
B13: Calculated Positions
B14: LNG | C14: =IF(Calcs!F48<=0,-Calcs!F48,1000-Calcs!F48) -> 0
B15: LAT | C15: =IF(Calcs!B45>=0,Calcs!B45,1000+Calcs!B45) -> 0
B16: OK? | C16: =IF(AND(Calcs!B48=1,Calcs!B49=1),"YES","NO") -> YES
B22: Custom Positions
B23: LNG | C23: 0
B24: LAT | C24: 0
B25: OK? | C25: =IF(Settings!A17=FALSE,"N/A",IF(AND(Calcs!B56=1,Calcs!B57=1),"YES","NO")) -> N/A
A37: Disclaimer:
A38: THE SOFTWARE IS PROVIDED “AS IS”, WITHOUT WARRANTY OF ANY KIND, EXPRESS OR IMPLIED, INCLUDING BUT NOT LIMITED TO THE WARRANTIES OF MERCHANTABILITY, FITNESS FOR A PARTICULAR PURPOSE AND NONINFRINGEMENT. IN NO EVENT SHALL THE AUTHORS OR COPYRIGHT HOLDERS BE LIABLE FOR ANY CLAIM, DAMAGES OR OTHER LIABILITY, WHETHER IN AN ACTION OF CONTRACT, TORT OR OTHERWISE, ARISING FROM, OUT OF OR IN CONNECTION WITH THE SOFTWARE OR THE USE OR OTHER DEALINGS IN THE SOFTWARE.

Sheet Calcs
A2: Jaws coverted to actual positions (e.g x1 = -x1) | I2: Detector Corners (calculated from sizes) | R2: Cos and sin of the collimator angle, used to calculate points with colli rotation
A3: x1 | B3: =-Main!C5 -> -5 | I3: x | J3: y | R3: cosT | S3: =COS(RADIANS(Main!C9)) -> 1 | T3: sinT | U3: =SIN(RADIANS(Main!C9)) -> 0
A4: x2 | B4: =Main!C6 -> 5 | I4: =-Settings!A5/2 -> -20 | J4: =-Settings!B5/2 -> -15
A5: y1 | B5: =-Main!C7 -> -5 | I5: =Settings!A5/2 -> 20 | J5: =-Settings!B5/2 -> -15 | R5: Magnification factor calculated from VRT position
A6: y2 | B6: =Main!C8 -> 5 | I6: =Settings!A5/2 -> 20 | J6: =Settings!B5/2 -> 15 | R6: Magnif | S6: =(VRT+100)/100 -> 1.5
I7: =-Settings!A5/2 -> -20 | J7: =Settings!B5/2 -> 15
A8: Jaw coordinates (no colli rotation) | I8: =-Settings!A5/2 -> -20 | J8: =-Settings!B5/2 -> -15
A9: x | B9: y
A10: =Calcs!B3 -> -5 | B10: =Calcs!B5 -> -5
A11: =Calcs!B4 -> 5 | B11: =Calcs!B5 -> -5
A12: =Calcs!B4 -> 5 | B12: =Calcs!B6 -> 5 | F12: Detector corners with offsets | I12: Detector corners with optimal offset | M12: Detector corners to display
A13: =Calcs!B3 -> -5 | B13: =Calcs!B6 -> 5 | F13: x | G13: y | I13: x | J13: y | M13: x | N13: y | W13: text offset dist | X13: 3 | Y13: cm
A14: =A10 -> -5 | B14: =B10 -> -5 | F14: =I4+$B$45 -> -20 | G14: =J4+$B$44 -> -15 | I14: =I4+$F$49 -> -20 | J14: =J4+$F$48 -> -15 | M14: =I4+$B$53 -> -20 | N14: =J4+$B$52 -> -15 | Q14: Calculate offsets for rendering text
F15: =I5+$B$45 -> 20 | G15: =J5+$B$44 -> -15 | I15: =I5+$F$49 -> 20 | J15: =J5+$F$48 -> -15 | M15: =I5+$B$53 -> 20 | N15: =J5+$B$52 -> -15 | R15: dx | S15: dy | T15: length | U15: dxnrom | V15: dynorm | W15: x | X15: y | Y15: label
A16: Field corners projected to detector surface | F16: =I6+$B$45 -> 20 | G16: =J6+$B$44 -> 15 | I16: =I6+$F$49 -> 20 | J16: =J6+$F$48 -> 15 | M16: =I6+$B$53 -> 20 | N16: =J6+$B$52 -> 15 | Q16: Y2 | R16: =Dx-Ax -> 0 | S16: =Dy-Ay -> 15 | T16: =SQRT(R16*R16+S16*S16) -> 15 | U16: =R16/T16 -> 0 | V16: =S16/T16 -> 1 | W16: =(Dx+Cx)/2+U16*offset_dist -> 0 | X16: =(Dy+Cy)/2+V16*offset_dist -> 10.5 | Y16: =IF(hide_jaw_labels,"",Q16) -> Y2
A17: x | B17: y | F17: =I7+$B$45 -> -20 | G17: =J7+$B$44 -> 15 | I17: =I7+$F$49 -> -20 | J17: =J7+$F$48 -> 15 | M17: =I7+$B$53 -> -20 | N17: =J7+$B$52 -> 15 | Q17: Y1 | R17: =Ax-Dx -> 0 | S17: =Ay-Dy -> -15 | T17: =SQRT(R17*R17+S17*S17) -> 15 | U17: =R17/T17 -> 0 | V17: =S17/T17 -> -1 | W17: =(Ax+Bx)/2+U17*offset_dist -> 0 | X17: =(Ay+By)/2+V17*offset_dist -> -10.5 | Y17: =IF(hide_jaw_labels,"",Q17) -> Y1
A18: =mag*A10 -> -7.5 | B18: =mag*B10 -> -7.5 | F18: =I8+$B$45 -> -20 | G18: =J8+$B$44 -> -15 | I18: =I8+$F$49 -> -20 | J18: =J8+$F$48 -> -15 | M18: =I8+$B$53 -> -20 | N18: =J8+$B$52 -> -15 | Q18: X2 | R18: =Bx-Ax -> 15 | S18: =By-Ay -> 0 | T18: =SQRT(R18*R18+S18*S18) -> 15 | U18: =R18/T18 -> 1 | V18: =S18/T18 -> 0 | W18: =(Cx+Bx)/2+U18*offset_dist -> 10.5 | X18: =(Cy+By)/2+V18*offset_dist -> 0 | Y18: =IF(hide_jaw_labels,"",Q18) -> X2
A19: =mag*A11 -> 7.5 | B19: =mag*B11 -> -7.5 | Q19: X1 | R19: =Ax-Bx -> -15 | S19: =Ay-By -> 0 | T19: =SQRT(R19*R19+S19*S19) -> 15 | U19: =R19/T19 -> -1 | V19: =S19/T19 -> 0 | W19: =(Dx+Ax)/2+U19*offset_dist -> -10.5 | X19: =(Dy+Ay)/2+V19*offset_dist -> 0 | Y19: =IF(hide_jaw_labels,"",Q19) -> X1
A20: =mag*A12 -> 7.5 | B20: =mag*B12 -> 7.5 | I20: Detector corners with user offset
A21: =mag*A13 -> -7.5 | B21: =mag*B13 -> 7.5 | I21: x | J21: y
A22: =mag*A14 -> -7.5 | B22: =mag*B14 -> -7.5 | I22: =I4+IF(Main!$C$24>900,Main!$C$24-1000,Main!$C$24) -> -20 | J22: =J4+IF(Main!$C$23>900,1000-Main!$C$23,-Main!$C$23) -> -15
I23: =I5+IF(Main!$C$24>900,Main!$C$24-1000,Main!$C$24) -> 20 | J23: =J5+IF(Main!$C$23>900,1000-Main!$C$23,-Main!$C$23) -> -15
A24: Field corners projected to detector surface with colli rotation | I24: =I6+IF(Main!$C$24>900,Main!$C$24-1000,Main!$C$24) -> 20 | J24: =J6+IF(Main!$C$23>900,1000-Main!$C$23,-Main!$C$23) -> 15
B25: x | C25: y | I25: =I7+IF(Main!$C$24>900,Main!$C$24-1000,Main!$C$24) -> -20 | J25: =J7+IF(Main!$C$23>900,1000-Main!$C$23,-Main!$C$23) -> 15
A26: A | B26: =Calcs!$S$3*Calcs!A18-Calcs!B18*Calcs!$U$3 -> -7.5 | C26: =Calcs!A18*Calcs!$U$3+Calcs!B18*Calcs!$S$3 -> -7.5 | I26: =I8+IF(Main!$C$24>900,Main!$C$24-1000,Main!$C$24) -> -20 | J26: =J8+IF(Main!$C$23>900,1000-Main!$C$23,-Main!$C$23) -> -15
A27: B | B27: =Calcs!$S$3*Calcs!A19-Calcs!B19*Calcs!$U$3 -> 7.5 | C27: =Calcs!A19*Calcs!$U$3+Calcs!B19*Calcs!$S$3 -> -7.5
A28: C | B28: =Calcs!$S$3*Calcs!A20-Calcs!B20*Calcs!$U$3 -> 7.5 | C28: =Calcs!A20*Calcs!$U$3+Calcs!B20*Calcs!$S$3 -> 7.5
A29: D | B29: =Calcs!$S$3*Calcs!A21-Calcs!B21*Calcs!$U$3 -> -7.5 | C29: =Calcs!A21*Calcs!$U$3+Calcs!B21*Calcs!$S$3 -> 7.5 | K29: dx(X1,X2)|Y2 | L29: dy(X1,X2)|Y2
B30: =Calcs!$S$3*Calcs!A22-Calcs!B22*Calcs!$U$3 -> -7.5 | C30: =Calcs!A22*Calcs!$U$3+Calcs!B22*Calcs!$S$3 -> -7.5 | K30: =B28-B29 -> 15 | L30: =C28-C29 -> 0
K31: dx(X1,X2)|Y1 | L31: dy(X1,X2)|Y1
A32: Get maximum and min X and Y positions of radiation field | K32: =B27-B30 -> 15 | L32: =C27-C30 -> 0
A33: MIN Y | B33: =MIN(C26:C30) -> -7.5 | K33: dx(Y1,Y2)|X1 | L33: dy(Y1,Y2)|X1
A34: MAX Y | B34: =MAX(C26:C30) -> 7.5 | K34: =B29-B26 -> 0 | L34: =C29-C26 -> 15
A35: MIN X | B35: =MIN(B26:B30) -> -7.5 | K35: dx(Y1,Y2)|X2 | L35: dy(Y1,Y2)|X2
A36: MAX X | B36: =MAX(B26:B30) -> 7.5 | K36: =B28-B27 -> 0 | L36: =C28-C27 -> 15
A38: Get ranges of available detector offsets. Takes into account max/min lng/lat positons
A39: LNG | B39: =MIN(MAX(B33-J4,Settings!B11),Settings!C11)-ymargin -> 6.5 | C39: =MIN(MAX(B34-J6,Settings!B11),Settings!C11)+xmargin -> -6.5
A40: LAT | B40: =MIN(MAX(B35-I4,Settings!B10),Settings!C10)-xmargin -> 11.5 | C40: =MIN(MAX(B36-I5,Settings!B10),Settings!C10)+xmargin -> -11.5
A42: Calculate suggested offset. If it fits (if allowable offset ranges straddle 0) it will suggest a 0 cm offset, otherwise use the minimum required offset
B43: offset
...

Sheet Settings
A1: Spreadsheet written by Andrew McGrath 2017 [andrew.n.mcgrath@gmail.com]
A3: Detector sizes | E3: Margin to aim for -> will try to suggest an offset that maintains at minimum this margin
A4: X (cm) | B4: Y (cm) | E4: LAT (cm) | F4: LNG (cm)
A5: 40 | B5: 30 | E5: 1 | F5: 1
A7: Detector LIMITS
B8: MIN | C8: MAX
A9: VRT | B9: -82 | C9: 2.5
A10: LAT | B10: -16 | C10: 16
A11: LNG | B11: -20 | C11: 24
A13: Whether to hide Jaw labels on plot. This is linked to checkbox on Main sheet
A14: FALSE
A16: User forces display of entered offsets? This cell is linked to the checkbox in Sheet1
A17: FALSE
A21: Disclaimer:

Sheet Version History
A1: V1.0: 14/12/2017
A2: V1.1: 09/02/2018
B3: Added a margin to detector edges. The spreadsheet will attempt to keep at minimum this margin between the radiation field edge and the detector edges.
B4: Added a settings page & cleaned up the calc page
